BEGIN:VCALENDAR
VERSION:2.0
PRODID:-//Westport Weston Family YMCA - ECPv6.6.4.2//NONSGML v1.0//EN
CALSCALE:GREGORIAN
METHOD:PUBLISH
X-ORIGINAL-URL:https://westporty.org
X-WR-CALDESC:Events for Westport Weston Family YMCA
REFRESH-INTERVAL;VALUE=DURATION:PT1H
X-Robots-Tag:noindex
X-PUBLISHED-TTL:PT1H
BEGIN:VTIMEZONE
TZID:America/New_York
BEGIN:DAYLIGHT
TZOFFSETFROM:-0500
TZOFFSETTO:-0400
TZNAME:EDT
DTSTART:20240310T070000
END:DAYLIGHT
BEGIN:STANDARD
TZOFFSETFROM:-0400
TZOFFSETTO:-0500
TZNAME:EST
DTSTART:20241103T060000
END:STANDARD
END:VTIMEZONE
BEGIN:VEVENT
DTSTART;TZID=America/New_York:20241216T083000
DTEND;TZID=America/New_York:20241220T130000
DTSTAMP:20260422T063804
CREATED:20241111T214538Z
LAST-MODIFIED:20241111T214538Z
UID:54223-1734337800-1734699600@westporty.org
SUMMARY:Hafaday December Vacation Camp
DESCRIPTION:When school is out\, the Hafaday Camp at the WWFY is in! Join us on December 16-20 for an exciting week of fun and learning designed just for preschoolers! Running from 8:30 AM to 1:00 PM\, kids will enjoy swimming\, arts and crafts\, sports\, and more in a safe and engaging environment with their friends.
URL:https://westporty.org/event/hafaday-december-vacation-camp/
ATTACH;FMTTYPE=image/jpeg:https://westporty.org/wp-content/uploads/2024/11/Hafaday-Vacation-Camp.jpg
END:VEVENT
END:VCALENDAR