BEGIN:VCALENDAR
VERSION:2.0
PRODID:-//Westport Weston Family YMCA - ECPv6.6.4.2//NONSGML v1.0//EN
CALSCALE:GREGORIAN
METHOD:PUBLISH
X-WR-CALNAME:Westport Weston Family YMCA
X-ORIGINAL-URL:https://westporty.org
X-WR-CALDESC:Events for Westport Weston Family YMCA
REFRESH-INTERVAL;VALUE=DURATION:PT1H
X-Robots-Tag:noindex
X-PUBLISHED-TTL:PT1H
BEGIN:VTIMEZONE
TZID:America/New_York
BEGIN:DAYLIGHT
TZOFFSETFROM:-0500
TZOFFSETTO:-0400
TZNAME:EDT
DTSTART:20260308T070000
END:DAYLIGHT
BEGIN:STANDARD
TZOFFSETFROM:-0400
TZOFFSETTO:-0500
TZNAME:EST
DTSTART:20261101T060000
END:STANDARD
END:VTIMEZONE
BEGIN:VEVENT
DTSTART;TZID=America/New_York:20260317T104500
DTEND;TZID=America/New_York:20260317T114500
DTSTAMP:20260424T060609
CREATED:20260306T213157Z
LAST-MODIFIED:20260306T213157Z
UID:60497-1773744300-1773747900@westporty.org
SUMMARY:Karina Smirnoff Master Class
DESCRIPTION:Step onto the dance floor on March 17 from 10:45–11:45 AM for a special Ballroom Master Class with Karina Smirnoff\, professional dancer from Dancing with the Stars. Enjoy an energetic class\, a special performance\, and the chance to take photos and ask questions about her experience on the show. Spots are limited!
URL:https://westporty.org/event/karina/
ATTACH;FMTTYPE=image/jpeg:https://westporty.org/wp-content/uploads/2026/03/Karina-Smirnoff-2026.jpg
END:VEVENT
BEGIN:VEVENT
DTSTART;TZID=America/New_York:20260321T150000
DTEND;TZID=America/New_York:20260321T180000
DTSTAMP:20260424T060609
CREATED:20250305T162857Z
LAST-MODIFIED:20260209T204646Z
UID:55694-1774105200-1774116000@westporty.org
SUMMARY:March Madness Night
DESCRIPTION:The Westport Weston Family YMCA is thrilled to announce an exciting March Madness event\, organized by the Junior Board Members. This one-night-only basketball celebration will take place on Saturday\, March 21\, 2026\, from 3:00 PM to 6:00 PM in the YMCA Gym. \nOpen to 6th and 7th grade teens\, this action-packed event will bring the energy of March Madness to life with basketball games\, pizza\, and a fun\, social atmosphere. It’s a fantastic opportunity for teens to connect with friends\, enjoy friendly competition\, and experience the excitement of the season in a supportive and engaging environment.
URL:https://westporty.org/event/teen-march-madness/
ATTACH;FMTTYPE=image/jpeg:https://westporty.org/wp-content/uploads/2025/02/Basketball-at-the-Y-2024.jpeg
END:VEVENT
BEGIN:VEVENT
DTSTART;TZID=America/New_York:20260327T080000
DTEND;TZID=America/New_York:20260327T180000
DTSTAMP:20260424T060609
CREATED:20260307T140748Z
LAST-MODIFIED:20260307T140748Z
UID:60514-1774598400-1774634400@westporty.org
SUMMARY:Mar 27 Vacation Camp - School Age
DESCRIPTION:When school is out\, the Y is in! Sign up for our next vacation day camp Friday\, March 27 where your students in grades K-6 will enjoy swimming\, gym time\, and other fun activities on their day off at the Y.
URL:https://westporty.org/event/mar-27-vacation-camp-school-age/
ATTACH;FMTTYPE=image/jpeg:https://westporty.org/wp-content/uploads/2024/09/Vacation-Camp.jpg
END:VEVENT
BEGIN:VEVENT
DTSTART;TZID=America/New_York:20260328T100000
DTEND;TZID=America/New_York:20260328T130000
DTSTAMP:20260424T060609
CREATED:20250301T013748Z
LAST-MODIFIED:20260226T215919Z
UID:55616-1774692000-1774702800@westporty.org
SUMMARY:Jr. Knicks Clinic
DESCRIPTION:Join us for a Jr. Knicks Basketball Clinic\, on March 28. This free event\, in collaboration with the Westport PAL\, offers a chance to meet a basketball legend\, take part in fun basketball drills\, and enjoy a day of high-energy activities. \nThe clinic is open to grades K-2 from 10:00 AM to 11:30 AM and grades 3-5 from 11:30 AM to 1:00 PM. Registration is required\, so sign up today for an unforgettable day of hoops\, high-fives\, and fun.
URL:https://westporty.org/event/jr-knicksclinic/
ATTACH;FMTTYPE=image/jpeg:https://westporty.org/wp-content/uploads/2025/02/Jr-Knicks.jpg
END:VEVENT
BEGIN:VEVENT
DTSTART;TZID=America/New_York:20260331T103000
DTEND;TZID=America/New_York:20260331T113000
DTSTAMP:20260424T060609
CREATED:20260310T170640Z
LAST-MODIFIED:20260310T172544Z
UID:60540-1774953000-1774956600@westporty.org
SUMMARY:Strategies & Resources for Healthy Aging Event
DESCRIPTION:
URL:https://westporty.org/event/healthy-aging-0326/
LOCATION:Westport Weston YMCA Bedford Family Center\, 14 Allen Raymond Lane\, WESTPORT\, CT\, 06880\, United States
ATTACH;FMTTYPE=image/jpeg:https://westporty.org/wp-content/uploads/2026/03/Screens.jpg
END:VEVENT
END:VCALENDAR